BEGIN:VCALENDAR
VERSION:2.0
PRODID:-//Intand Corporation//Tandem//EN
METHOD:PUBLISH
BEGIN:VEVENT
DTSTAMP:20260426T005641Z
DTSTART:20260420T233000Z
DTEND:20260421T013000Z
TRANSP:TRANSPARENT
PRIORITY:0
SUMMARY:JV2 Baseball vs South Medford
LOCATION:GPHS JV Baseball Field
DESCRIPTION:Groups:\nGPHS Baseball Freshman\n\nSchools:\nGrants Pass High 
 School \n\nLocation:\nGPHS JV Baseball Field\n\n
URL;VALUE=URI:https://app.tandem.co/Grants-Pass-School-District/?type=view
 &action=event&id=97855
CREATED:20260417T150705Z
LAST-MODIFIED:20260417T150705Z
UID:event-97855-grantspasshigh@intand.com
END:VEVENT
END:VCALENDAR
